BEGIN:VCALENDAR
VERSION:2.0
PRODID:-//Kids &#039;n Kinship - ECPv6.15.16.1//NONSGML v1.0//EN
CALSCALE:GREGORIAN
METHOD:PUBLISH
X-ORIGINAL-URL:https://www.kidsnkinship.org
X-WR-CALDESC:Events for Kids &#039;n Kinship
REFRESH-INTERVAL;VALUE=DURATION:PT1H
X-Robots-Tag:noindex
X-PUBLISHED-TTL:PT1H
BEGIN:VTIMEZONE
TZID:America/Chicago
BEGIN:DAYLIGHT
TZOFFSETFROM:-0600
TZOFFSETTO:-0500
TZNAME:CDT
DTSTART:20230312T080000
END:DAYLIGHT
BEGIN:STANDARD
TZOFFSETFROM:-0500
TZOFFSETTO:-0600
TZNAME:CST
DTSTART:20231105T070000
END:STANDARD
BEGIN:DAYLIGHT
TZOFFSETFROM:-0600
TZOFFSETTO:-0500
TZNAME:CDT
DTSTART:20240310T080000
END:DAYLIGHT
BEGIN:STANDARD
TZOFFSETFROM:-0500
TZOFFSETTO:-0600
TZNAME:CST
DTSTART:20241103T070000
END:STANDARD
BEGIN:DAYLIGHT
TZOFFSETFROM:-0600
TZOFFSETTO:-0500
TZNAME:CDT
DTSTART:20250309T080000
END:DAYLIGHT
BEGIN:STANDARD
TZOFFSETFROM:-0500
TZOFFSETTO:-0600
TZNAME:CST
DTSTART:20251102T070000
END:STANDARD
END:VTIMEZONE
BEGIN:VEVENT
DTSTART;TZID=America/Chicago:20241121T120000
DTEND;TZID=America/Chicago:20241121T130000
DTSTAMP:20260424T154350
CREATED:20240624T192859Z
LAST-MODIFIED:20241114T220718Z
UID:5146-1732190400-1732194000@www.kidsnkinship.org
SUMMARY:11/21 Virtual Info Session
DESCRIPTION:Anyone interested in learning more about our community and school-based mentoring programs\, as well as becoming a mentor\, is invited to attend an Information Session. \nThursday\, November 21 from 12-1pm Virtual on Zoom \nThe Information Session is the place to hear about the children and teens who are waiting for mentors\, the volunteer screening process\, activities and benefits provided by Kids ‘n Kinship. We have Information Sessions 2-3 times a month during the evening and on the weekends\, so if this date is not convenient\, we’ll plan a date and time that works for you. Individuals\, couples\, and families can become mentors. Mentoring is fun and rewarding and you can make a meaningful impact in the life of a child or teen! \nPLEASE CONTACT US TO RSVP FOR THE SESSION. Let us know if you plan to attend: volunteer@kidsnkinship.org. Thank you!
URL:https://www.kidsnkinship.org/event/virtual-info-session-november-21/
LOCATION:Online
CATEGORIES:Info Sessions
ATTACH;FMTTYPE=image/png:https://www.kidsnkinship.org/wp-content/uploads/2024/11/Jordan-BBQ.png
END:VEVENT
END:VCALENDAR