BEGIN:VCALENDAR
VERSION:2.0
PRODID:-//Kids &#039;n Kinship - ECPv6.15.16.1//NONSGML v1.0//EN
CALSCALE:GREGORIAN
METHOD:PUBLISH
X-WR-CALNAME:Kids &#039;n Kinship
X-ORIGINAL-URL:https://www.kidsnkinship.org
X-WR-CALDESC:Events for Kids &#039;n Kinship
REFRESH-INTERVAL;VALUE=DURATION:PT1H
X-Robots-Tag:noindex
X-PUBLISHED-TTL:PT1H
BEGIN:VTIMEZONE
TZID:America/Chicago
BEGIN:DAYLIGHT
TZOFFSETFROM:-0600
TZOFFSETTO:-0500
TZNAME:CDT
DTSTART:20250309T080000
END:DAYLIGHT
BEGIN:STANDARD
TZOFFSETFROM:-0500
TZOFFSETTO:-0600
TZNAME:CST
DTSTART:20251102T070000
END:STANDARD
BEGIN:DAYLIGHT
TZOFFSETFROM:-0600
TZOFFSETTO:-0500
TZNAME:CDT
DTSTART:20260308T080000
END:DAYLIGHT
BEGIN:STANDARD
TZOFFSETFROM:-0500
TZOFFSETTO:-0600
TZNAME:CST
DTSTART:20261101T070000
END:STANDARD
BEGIN:DAYLIGHT
TZOFFSETFROM:-0600
TZOFFSETTO:-0500
TZNAME:CDT
DTSTART:20270314T080000
END:DAYLIGHT
BEGIN:STANDARD
TZOFFSETFROM:-0500
TZOFFSETTO:-0600
TZNAME:CST
DTSTART:20271107T070000
END:STANDARD
END:VTIMEZONE
BEGIN:VEVENT
DTSTART;TZID=America/Chicago:20260119T170000
DTEND;TZID=America/Chicago:20260119T183000
DTSTAMP:20260425T104329
CREATED:20241119T185340Z
LAST-MODIFIED:20251106T160026Z
UID:5349-1768842000-1768847400@www.kidsnkinship.org
SUMMARY:Feed My Starving Children Service Event
DESCRIPTION:Join us on Monday\, January 16 as we serve together at Feed My Starving Children. \nThis is an excellent way to support kids around the world in a short amount of time alongside your mentee\, friends and family. Kids ‘n Kinship has 40 spots reserved and they’ll fill up fast. \nEmail Kerry at projects@kidsnkinship.org to reserve your spot!
URL:https://www.kidsnkinship.org/event/feed-my-starving-children/
LOCATION:Feed My Starving Children\, 990 Lone Oak Rd.\, Eagan\, 55121
CATEGORIES:Featured Event,Special Events
ATTACH;FMTTYPE=image/png:https://www.kidsnkinship.org/wp-content/uploads/2024/11/Feed-My-Starving-Children.png
END:VEVENT
BEGIN:VEVENT
DTSTART;TZID=America/Chicago:20260130T113000
DTEND;TZID=America/Chicago:20260130T123000
DTSTAMP:20260425T104329
CREATED:20251215T174423Z
LAST-MODIFIED:20260126T202618Z
UID:5798-1769772600-1769776200@www.kidsnkinship.org
SUMMARY:Coffee for a Cause at Curiouser Coffee & Conservatory
DESCRIPTION:*PLEASE NOTE TIME CHANGE FROM ORIGINAL POSTING* \nCome meet the staff and learn a little more about mentoring with Kids ‘n Kinship. If you’re already a mentor\, invite a friend or family member who wants to learn more. Free small coffee or hot chocolate on us for the first 10 to RSVP. \nFriday\, January 30\, 11:30 at Curiouser Coffee & Conservatory\, 14889 Florence Trail\, Apple Valley. \nRSVP: projects@kidsnkinship.org
URL:https://www.kidsnkinship.org/event/coffee-for-kids-arise-curiouser/
LOCATION:Curiouser Coffee\, 14889 Florence Trail\, Apple Valley\, Minnesota\, 55124
CATEGORIES:Featured Event,Special Events
ATTACH;FMTTYPE=image/png:https://www.kidsnkinship.org/wp-content/uploads/2025/12/Coffee-for-Kids-Curiouser-3.png
END:VEVENT
BEGIN:VEVENT
DTSTART;VALUE=DATE:20260131
DTEND;VALUE=DATE:20260201
DTSTAMP:20260425T104329
CREATED:20251112T211056Z
LAST-MODIFIED:20260121T203309Z
UID:5772-1769817600-1769903999@www.kidsnkinship.org
SUMMARY:Ice Fishing
DESCRIPTION:*PLEASE NOTE – this has been rescheduled from January 24 to JANUARY 31 due to negative temperatures! \nEmail Jerod at programs@kidsnkinship.org to sign up for ice fishing on Saturday\, January 31.
URL:https://www.kidsnkinship.org/event/ice-fishing/
CATEGORIES:Featured Event,Special Events
ATTACH;FMTTYPE=image/png:https://www.kidsnkinship.org/wp-content/uploads/2025/11/Rescheduled-Ice-Fishing-2026-Post.png
END:VEVENT
BEGIN:VEVENT
DTSTART;TZID=America/Chicago:20260412T180000
DTEND;TZID=America/Chicago:20260412T210000
DTSTAMP:20260425T104329
CREATED:20251124T193533Z
LAST-MODIFIED:20260326T181732Z
UID:5784-1776016800-1776027600@www.kidsnkinship.org
SUMMARY:Sunday Funday Spring Fundraiser
DESCRIPTION:On Sunday\, April 12th\, we will hold our 3rd annual Spring Fundraiser where mentors\, mentees\, waitlist youth and their families as well as community supporters can participate in a night of fun activities at Sunday Funday at Grand Slam in Burnsville. \nBuy tickets or Bid on the Online Auction from April 1-8 HERE. All proceeds will go directly toward youth mentoring.
URL:https://www.kidsnkinship.org/event/sunday-funday-2/
LOCATION:Grand Slam\, 12425 River Ridge Blvd\, Burnsville\, MN\, 55337\, United States
CATEGORIES:Featured Event,Special Events
ATTACH;FMTTYPE=image/png:https://www.kidsnkinship.org/wp-content/uploads/2025/11/Sunday-Funday-2026-Post-2.png
END:VEVENT
BEGIN:VEVENT
DTSTART;TZID=America/Chicago:20260611T113000
DTEND;TZID=America/Chicago:20260611T130000
DTSTAMP:20260425T104329
CREATED:20230514T171019Z
LAST-MODIFIED:20260409T180154Z
UID:4438-1781177400-1781182800@www.kidsnkinship.org
SUMMARY:2026 CEM 900 Celebration
DESCRIPTION:Help us celebrate this year’s Christian Elder Memorial Bike Ride participants with a reception hosted by Merchants Bank in Apple Valley on Thursday\, June 11 at 11:30am. \nThe Merchants Bank Christian Elder Memorial 900 (CEM 900) is an annual charity bicycle ride covering 900 kilometers in nine days for the benefit of Kids ‘n Kinship. \nWith over $640\,000 raised over the first 19 years\, the team’s goal is to add to the total raised. 100% of the funds raised go directly to Kids n’ Kinship. Merchants Bank has been the title sponsor every year since the ride’s inception. \n100% of your donation goes directly to Kids ‘n Kinship and we are so very grateful. \nFollow the ride here: https://cem900.com/
URL:https://www.kidsnkinship.org/event/2025-cem-900/
LOCATION:Merchants Bank\, 14990 Glazier Ave\, Apple Valley\, MN\, 55124
CATEGORIES:Featured Event,Special Events
ATTACH;FMTTYPE=image/png:https://www.kidsnkinship.org/wp-content/uploads/2023/05/2026-CEM-Welcome-Home-1.png
END:VEVENT
BEGIN:VEVENT
DTSTART;TZID=America/Chicago:20260728T173000
DTEND;TZID=America/Chicago:20260728T203000
DTSTAMP:20260425T104329
CREATED:20250317T153431Z
LAST-MODIFIED:20260413T190029Z
UID:5502-1785259800-1785270600@www.kidsnkinship.org
SUMMARY:Camp Streefland
DESCRIPTION:Save the Date for this amazing day at Camp Streefland in Lakeville. \nAt Camp Streefland\, mentors\, mentees\, waitlist youth and families are able to enjoy swimming\, canoeing\, rock climbing\, archery\, the Free Book Buggie and a picnic provided by the Elks Club. We will also have school supplies available. Oh\, and sno cones! It’s an amazing free summer afternoon you really won’t want to miss.
URL:https://www.kidsnkinship.org/event/camp-streefland/
LOCATION:Camp Streefland\, 11490 Klamath Trail\, Lakeville\, MN\, 55044\, United States
CATEGORIES:Featured Event,Special Events
ATTACH;FMTTYPE=image/png:https://www.kidsnkinship.org/wp-content/uploads/2025/03/2026-Camp-Streefland-Save-the-Date-2.png
END:VEVENT
END:VCALENDAR