BEGIN:VCALENDAR
VERSION:2.0
PRODID:-//Kids &#039;n Kinship - ECPv6.15.16.1//NONSGML v1.0//EN
CALSCALE:GREGORIAN
METHOD:PUBLISH
X-WR-CALNAME:Kids &#039;n Kinship
X-ORIGINAL-URL:https://www.kidsnkinship.org
X-WR-CALDESC:Events for Kids &#039;n Kinship
REFRESH-INTERVAL;VALUE=DURATION:PT1H
X-Robots-Tag:noindex
X-PUBLISHED-TTL:PT1H
BEGIN:VTIMEZONE
TZID:America/Chicago
BEGIN:DAYLIGHT
TZOFFSETFROM:-0600
TZOFFSETTO:-0500
TZNAME:CDT
DTSTART:20250309T080000
END:DAYLIGHT
BEGIN:STANDARD
TZOFFSETFROM:-0500
TZOFFSETTO:-0600
TZNAME:CST
DTSTART:20251102T070000
END:STANDARD
BEGIN:DAYLIGHT
TZOFFSETFROM:-0600
TZOFFSETTO:-0500
TZNAME:CDT
DTSTART:20260308T080000
END:DAYLIGHT
BEGIN:STANDARD
TZOFFSETFROM:-0500
TZOFFSETTO:-0600
TZNAME:CST
DTSTART:20261101T070000
END:STANDARD
BEGIN:DAYLIGHT
TZOFFSETFROM:-0600
TZOFFSETTO:-0500
TZNAME:CDT
DTSTART:20270314T080000
END:DAYLIGHT
BEGIN:STANDARD
TZOFFSETFROM:-0500
TZOFFSETTO:-0600
TZNAME:CST
DTSTART:20271107T070000
END:STANDARD
END:VTIMEZONE
BEGIN:VEVENT
DTSTART;TZID=America/Chicago:20260114T103000
DTEND;TZID=America/Chicago:20260114T113000
DTSTAMP:20260423T232940
CREATED:20251215T174051Z
LAST-MODIFIED:20251222T203820Z
UID:5793-1768386600-1768390200@www.kidsnkinship.org
SUMMARY:Coffee for a Cause at Arise Nicolette Coffee Company
DESCRIPTION:Come warm your hands and your heart as you learn about the kids and mentors we walk alongside\, the power of mentoring\, and the meaningful ways you can help create brighter futures right here in our community. Free small coffee or hot chocolate on us for the first 10 people to RSVP. \nJanuary 14\, 10:30 at Arise Coffee Company\, 12501 Nicollet Avenue\, Burnsville. \nRSVP: projects@kidsnkinship.org
URL:https://www.kidsnkinship.org/event/coffee-for-kids-arise/
LOCATION:Arise\, 12501 Nicollet Avenue\, Burnsville\, MN\, 55337\, United States
CATEGORIES:Featured Event,Special Events
ATTACH;FMTTYPE=image/png:https://www.kidsnkinship.org/wp-content/uploads/2025/12/Coffee-for-Kids-Arise-2.png
END:VEVENT
END:VCALENDAR