BEGIN:VCALENDAR
VERSION:2.0
PRODID:-//Kids &#039;n Kinship - ECPv6.15.16.1//NONSGML v1.0//EN
CALSCALE:GREGORIAN
METHOD:PUBLISH
X-WR-CALNAME:Kids &#039;n Kinship
X-ORIGINAL-URL:https://www.kidsnkinship.org
X-WR-CALDESC:Events for Kids &#039;n Kinship
REFRESH-INTERVAL;VALUE=DURATION:PT1H
X-Robots-Tag:noindex
X-PUBLISHED-TTL:PT1H
BEGIN:VTIMEZONE
TZID:America/Chicago
BEGIN:DAYLIGHT
TZOFFSETFROM:-0600
TZOFFSETTO:-0500
TZNAME:CDT
DTSTART:20240310T080000
END:DAYLIGHT
BEGIN:STANDARD
TZOFFSETFROM:-0500
TZOFFSETTO:-0600
TZNAME:CST
DTSTART:20241103T070000
END:STANDARD
BEGIN:DAYLIGHT
TZOFFSETFROM:-0600
TZOFFSETTO:-0500
TZNAME:CDT
DTSTART:20250309T080000
END:DAYLIGHT
BEGIN:STANDARD
TZOFFSETFROM:-0500
TZOFFSETTO:-0600
TZNAME:CST
DTSTART:20251102T070000
END:STANDARD
BEGIN:DAYLIGHT
TZOFFSETFROM:-0600
TZOFFSETTO:-0500
TZNAME:CDT
DTSTART:20260308T080000
END:DAYLIGHT
BEGIN:STANDARD
TZOFFSETFROM:-0500
TZOFFSETTO:-0600
TZNAME:CST
DTSTART:20261101T070000
END:STANDARD
END:VTIMEZONE
BEGIN:VEVENT
DTSTART;TZID=America/Chicago:20250929T110000
DTEND;TZID=America/Chicago:20250929T220000
DTSTAMP:20260424T031145
CREATED:20240408T203013Z
LAST-MODIFIED:20250514T195129Z
UID:5013-1759143600-1759183200@www.kidsnkinship.org
SUMMARY:Kids 'n Kinship Community Night @ Omni Winery & Taproom
DESCRIPTION:Join us on Monday\, September 29 for Community Night at Omni Winery & Taproom in Rosemount. Omni will be donating $1 for every beverage and pizza sold to Kids ‘n Kinship so invite your friends\, family and neighbors to Omni. We’ll see you there!
URL:https://www.kidsnkinship.org/event/community-night-omni/
LOCATION:Omni Winery & Taproom\, 15701 Biscayne Ave. N\, Rosemount\, MN\, 55068\, United States
CATEGORIES:Featured Event,Special Events
ATTACH;FMTTYPE=image/png:https://www.kidsnkinship.org/wp-content/uploads/2024/04/Omni-Community-Night-September.png
END:VEVENT
END:VCALENDAR