BEGIN:VCALENDAR
VERSION:2.0
PRODID:-//Kids &#039;n Kinship - ECPv6.15.16.1//NONSGML v1.0//EN
CALSCALE:GREGORIAN
METHOD:PUBLISH
X-ORIGINAL-URL:https://www.kidsnkinship.org
X-WR-CALDESC:Events for Kids &#039;n Kinship
REFRESH-INTERVAL;VALUE=DURATION:PT1H
X-Robots-Tag:noindex
X-PUBLISHED-TTL:PT1H
BEGIN:VTIMEZONE
TZID:America/Chicago
BEGIN:DAYLIGHT
TZOFFSETFROM:-0600
TZOFFSETTO:-0500
TZNAME:CDT
DTSTART:20240310T080000
END:DAYLIGHT
BEGIN:STANDARD
TZOFFSETFROM:-0500
TZOFFSETTO:-0600
TZNAME:CST
DTSTART:20241103T070000
END:STANDARD
BEGIN:DAYLIGHT
TZOFFSETFROM:-0600
TZOFFSETTO:-0500
TZNAME:CDT
DTSTART:20250309T080000
END:DAYLIGHT
BEGIN:STANDARD
TZOFFSETFROM:-0500
TZOFFSETTO:-0600
TZNAME:CST
DTSTART:20251102T070000
END:STANDARD
BEGIN:DAYLIGHT
TZOFFSETFROM:-0600
TZOFFSETTO:-0500
TZNAME:CDT
DTSTART:20260308T080000
END:DAYLIGHT
BEGIN:STANDARD
TZOFFSETFROM:-0500
TZOFFSETTO:-0600
TZNAME:CST
DTSTART:20261101T070000
END:STANDARD
END:VTIMEZONE
BEGIN:VEVENT
DTSTART;TZID=America/Chicago:20250710T170000
DTEND;TZID=America/Chicago:20250710T210000
DTSTAMP:20260424T054852
CREATED:20250609T192548Z
LAST-MODIFIED:20250609T193348Z
UID:5561-1752166800-1752181200@www.kidsnkinship.org
SUMMARY:Kids 'n Kinship Tabling at Party on the Plaza
DESCRIPTION:Join us on Thursday\, July 10 as we table at Party on the Plaza at Nicollet Commons Park in Burnsville from 5-9pm. Party on the Plaza is a night of live music\, food trucks and family friendly activities. Join us for this fun event hosted by the City of Burnsville. Check out all the details here: \nhttps://burnsvillemn.gov/Calendar.aspx?EID=19885
URL:https://www.kidsnkinship.org/event/party-on-the-plaza/
LOCATION:Nicollet Commons Park\, 12550 Nicollet Ave\, Burnsville\, 55337\, United States
CATEGORIES:Featured Event,Special Events
ATTACH;FMTTYPE=image/png:https://www.kidsnkinship.org/wp-content/uploads/2025/06/Party-on-the-Plaza-July-10.png
END:VEVENT
END:VCALENDAR