BEGIN:VCALENDAR
VERSION:2.0
PRODID:-//Kids &#039;n Kinship - ECPv6.15.16.1//NONSGML v1.0//EN
CALSCALE:GREGORIAN
METHOD:PUBLISH
X-WR-CALNAME:Kids &#039;n Kinship
X-ORIGINAL-URL:https://www.kidsnkinship.org
X-WR-CALDESC:Events for Kids &#039;n Kinship
REFRESH-INTERVAL;VALUE=DURATION:PT1H
X-Robots-Tag:noindex
X-PUBLISHED-TTL:PT1H
BEGIN:VTIMEZONE
TZID:America/Chicago
BEGIN:DAYLIGHT
TZOFFSETFROM:-0600
TZOFFSETTO:-0500
TZNAME:CDT
DTSTART:20240310T080000
END:DAYLIGHT
BEGIN:STANDARD
TZOFFSETFROM:-0500
TZOFFSETTO:-0600
TZNAME:CST
DTSTART:20241103T070000
END:STANDARD
BEGIN:DAYLIGHT
TZOFFSETFROM:-0600
TZOFFSETTO:-0500
TZNAME:CDT
DTSTART:20250309T080000
END:DAYLIGHT
BEGIN:STANDARD
TZOFFSETFROM:-0500
TZOFFSETTO:-0600
TZNAME:CST
DTSTART:20251102T070000
END:STANDARD
BEGIN:DAYLIGHT
TZOFFSETFROM:-0600
TZOFFSETTO:-0500
TZNAME:CDT
DTSTART:20260308T080000
END:DAYLIGHT
BEGIN:STANDARD
TZOFFSETFROM:-0500
TZOFFSETTO:-0600
TZNAME:CST
DTSTART:20261101T070000
END:STANDARD
END:VTIMEZONE
BEGIN:VEVENT
DTSTART;TZID=America/Chicago:20250503T080000
DTEND;TZID=America/Chicago:20250503T110000
DTSTAMP:20260424T083125
CREATED:20250219T192804Z
LAST-MODIFIED:20250319T155029Z
UID:5455-1746259200-1746270000@www.kidsnkinship.org
SUMMARY:Live to Give Walk
DESCRIPTION:Join Kids ‘n Kinship as we participate in the Live to Give Walk held by the Rotary Club of Eagan on Saturday\, May 3. \nWhen you sign up to walk\, you raise money for local non-profits that help families in Dakota County (like us!). \nRegister today!\nhttps://docs.google.com/forms/d/e/1FAIpQLSd9bisGshasq5iAUMSyjFfdpBqhFquOE9V_kf4cl3FzMlYMog/viewform
URL:https://www.kidsnkinship.org/event/live-to-give-walk/
LOCATION:Central Park\, 1507 Central Pkwy\, Eagan\, MN\, 55121\, United States
CATEGORIES:Featured Event,Special Events
ATTACH;FMTTYPE=image/png:https://www.kidsnkinship.org/wp-content/uploads/2025/02/Live-to-Give-Walk-2.png
END:VEVENT
BEGIN:VEVENT
DTSTART;TZID=America/Chicago:20250510T100000
DTEND;TZID=America/Chicago:20250510T180000
DTSTAMP:20260424T083125
CREATED:20250213T174315Z
LAST-MODIFIED:20250213T174910Z
UID:5452-1746871200-1746900000@www.kidsnkinship.org
SUMMARY:Rick's Bike Sale
DESCRIPTION:Come shop the 17th Annual Sale of refurbished bicycles for all ages\, with proceeds benefiting Kids ‘n Kinship and DARTS.  \nSaturday\, May 10\, 10:00am – 2:00pm* \n*While supplies last – get there early for the best selection \n*INDOOR LOCATION* Dick’s Valley Service\, 5905 Upper 147th St W\, Apple Valley\, MN 55124 \n(Corner of Johnny Cake Ridge Rd. & 147th\, across from Abdallah Candies) \nChoose from a selection of more than 400 bikes! \nFor more info go to www.rick’sbikesale.com \n 
URL:https://www.kidsnkinship.org/event/ricks-bike-sale-2/
LOCATION:Dick’s Valley Service\, 5905 Upper 147th St W\, Apple Valley\, 55124
CATEGORIES:Featured Event,Special Events
ATTACH;FMTTYPE=image/jpeg:https://www.kidsnkinship.org/wp-content/uploads/2023/05/IMG_9247-1-1.jpg
END:VEVENT
END:VCALENDAR