BEGIN:VCALENDAR
VERSION:2.0
PRODID:-//Kids &#039;n Kinship - ECPv6.15.16.1//NONSGML v1.0//EN
CALSCALE:GREGORIAN
METHOD:PUBLISH
X-ORIGINAL-URL:https://www.kidsnkinship.org
X-WR-CALDESC:Events for Kids &#039;n Kinship
REFRESH-INTERVAL;VALUE=DURATION:PT1H
X-Robots-Tag:noindex
X-PUBLISHED-TTL:PT1H
BEGIN:VTIMEZONE
TZID:America/Chicago
BEGIN:DAYLIGHT
TZOFFSETFROM:-0600
TZOFFSETTO:-0500
TZNAME:CDT
DTSTART:20230312T080000
END:DAYLIGHT
BEGIN:STANDARD
TZOFFSETFROM:-0500
TZOFFSETTO:-0600
TZNAME:CST
DTSTART:20231105T070000
END:STANDARD
BEGIN:DAYLIGHT
TZOFFSETFROM:-0600
TZOFFSETTO:-0500
TZNAME:CDT
DTSTART:20240310T080000
END:DAYLIGHT
BEGIN:STANDARD
TZOFFSETFROM:-0500
TZOFFSETTO:-0600
TZNAME:CST
DTSTART:20241103T070000
END:STANDARD
BEGIN:DAYLIGHT
TZOFFSETFROM:-0600
TZOFFSETTO:-0500
TZNAME:CDT
DTSTART:20250309T080000
END:DAYLIGHT
BEGIN:STANDARD
TZOFFSETFROM:-0500
TZOFFSETTO:-0600
TZNAME:CST
DTSTART:20251102T070000
END:STANDARD
END:VTIMEZONE
BEGIN:VEVENT
DTSTART;TZID=America/Chicago:20240115T163000
DTEND;TZID=America/Chicago:20240115T181500
DTSTAMP:20260425T075138
CREATED:20230526T140920Z
LAST-MODIFIED:20231219T195549Z
UID:4211-1705336200-1705342500@www.kidsnkinship.org
SUMMARY:Feed My Starving Children Serving Event
DESCRIPTION:Join us on Monday\, January 15 from 4:30-6:15pm as we serve together at Feed My Starving Children in Eagan. \nEmail Kerry at projects@kidsnkinship.org to secure one of the 39 spots available.
URL:https://www.kidsnkinship.org/event/fmsc-january-15/
LOCATION:Feed My Starving Children\, 990 Lone Oak Rd.\, Eagan\, 55121
CATEGORIES:Featured Event,Special Events
ATTACH;FMTTYPE=image/png:https://www.kidsnkinship.org/wp-content/uploads/2023/05/DR.-MARTIN-LUTHER-KING-JR.-DAY-OF-SERVICE-1.png
END:VEVENT
BEGIN:VEVENT
DTSTART;TZID=America/Chicago:20240128T113000
DTEND;TZID=America/Chicago:20240128T130000
DTSTAMP:20260425T075138
CREATED:20231221T202545Z
LAST-MODIFIED:20231221T203854Z
UID:4903-1706441400-1706446800@www.kidsnkinship.org
SUMMARY:Walk Like a Mentee
DESCRIPTION: “Walk Like a Mentee\,” will take place on Sunday\, January 28 from 11:30am-1pm at the Eagan Community Center gym. This information session goes beyond the traditional format\, offering families and prospective mentors the chance to get real interaction and conversations with some of mentor and mentee matches. \nRSVP to Silas at volunteer@kidsnkinship.org to reserve your spot.
URL:https://www.kidsnkinship.org/event/walk-like-a-mentee/
LOCATION:Eagan Community Center\, 1501 Central Pkwy\, Eagan\, MN\, 55121\, United States
CATEGORIES:Featured Event,Info Sessions,Special Events
ATTACH;FMTTYPE=image/png:https://www.kidsnkinship.org/wp-content/uploads/2023/12/Walk-Like-a-Mentee-2.png
END:VEVENT
END:VCALENDAR