BEGIN:VCALENDAR
VERSION:2.0
PRODID:-//Kids &#039;n Kinship - ECPv6.15.16.1//NONSGML v1.0//EN
CALSCALE:GREGORIAN
METHOD:PUBLISH
X-ORIGINAL-URL:https://www.kidsnkinship.org
X-WR-CALDESC:Events for Kids &#039;n Kinship
REFRESH-INTERVAL;VALUE=DURATION:PT1H
X-Robots-Tag:noindex
X-PUBLISHED-TTL:PT1H
BEGIN:VTIMEZONE
TZID:America/Chicago
BEGIN:DAYLIGHT
TZOFFSETFROM:-0600
TZOFFSETTO:-0500
TZNAME:CDT
DTSTART:20240310T080000
END:DAYLIGHT
BEGIN:STANDARD
TZOFFSETFROM:-0500
TZOFFSETTO:-0600
TZNAME:CST
DTSTART:20241103T070000
END:STANDARD
BEGIN:DAYLIGHT
TZOFFSETFROM:-0600
TZOFFSETTO:-0500
TZNAME:CDT
DTSTART:20250309T080000
END:DAYLIGHT
BEGIN:STANDARD
TZOFFSETFROM:-0500
TZOFFSETTO:-0600
TZNAME:CST
DTSTART:20251102T070000
END:STANDARD
BEGIN:DAYLIGHT
TZOFFSETFROM:-0600
TZOFFSETTO:-0500
TZNAME:CDT
DTSTART:20260308T080000
END:DAYLIGHT
BEGIN:STANDARD
TZOFFSETFROM:-0500
TZOFFSETTO:-0600
TZNAME:CST
DTSTART:20261101T070000
END:STANDARD
BEGIN:DAYLIGHT
TZOFFSETFROM:-0600
TZOFFSETTO:-0500
TZNAME:CDT
DTSTART:20270314T080000
END:DAYLIGHT
BEGIN:STANDARD
TZOFFSETFROM:-0500
TZOFFSETTO:-0600
TZNAME:CST
DTSTART:20271107T070000
END:STANDARD
END:VTIMEZONE
BEGIN:VEVENT
DTSTART;TZID=America/Chicago:20250430T180000
DTEND;TZID=America/Chicago:20250430T190000
DTSTAMP:20260425T094842
CREATED:20240617T110024Z
LAST-MODIFIED:20250421T173110Z
UID:5038-1746036000-1746039600@www.kidsnkinship.org
SUMMARY:4/30 Info Session at Galaxie Library
DESCRIPTION:Anyone interested in learning more about our community and school-based mentoring programs\, as well as becoming a mentor\, is invited to attend an Information Session. We currently have 43 youth waiting for a mentor right here in Dakota County: \nWednesday\, April 30 from 6-7pm at Galaxie Library in Apple Valley \nThe Information Session is the place to hear about the children and teens who are waiting for mentors\, the volunteer screening process\, activities and benefits provided by Kids ‘n Kinship. We have Information Sessions 2-3 times a month during the evening and on the weekends\, so if this date is not convenient\, we’ll plan a date and time that works for you. Individuals\, couples\, and families can become mentors. Mentoring is fun and rewarding and you can make a meaningful impact in the life of a child or teen! \nPLEASE CONTACT US TO RSVP FOR THE SESSION. Let us know if you can attend by emailing volunteer@kidsnkinship.org. Thank you!
URL:https://www.kidsnkinship.org/event/youth-mentoring-information-session-volunteering-near-me/
LOCATION:Galaxie Library Apple Valley\, 14955 Galaxie Ave\, Apple Valley\, MN\, 55124\, United States
CATEGORIES:Info Sessions
ATTACH;FMTTYPE=image/jpeg:https://www.kidsnkinship.org/wp-content/uploads/2025/03/IMG_6406-1-4-1-scaled.jpg
END:VEVENT
BEGIN:VEVENT
DTSTART;TZID=America/Chicago:20250923T180000
DTEND;TZID=America/Chicago:20250923T190000
DTSTAMP:20260425T094842
CREATED:20230628T165739Z
LAST-MODIFIED:20250828T163019Z
UID:4487-1758650400-1758654000@www.kidsnkinship.org
SUMMARY:9/23 Info Session at Burnhaven Library
DESCRIPTION:Anyone interested in learning more about our mentoring programs\, as well as becoming a mentor\, is invited to attend an Information Session. \nTuesday\, September 23 from 6-7pm at the Burnhaven Library in Burnsville \nThe Information Session is the place to hear about the 40+ children and teens in our program who are waiting for mentors\, the volunteer screening process\, activities and benefits provided by Kids ‘n Kinship. We have Information Sessions 2-3 times a month during the evening and on the weekends\, so if this date is not convenient\, we’ll plan a date and time that works for you. Individuals\, couples\, and families can become mentors. Mentoring is fun and rewarding and you can make a meaningful impact in the life of a child or teen! \nVolunteering helps you learn new skills\, make new friends\, give something back and connect to others. We know that mentoring will change a youth’s life – and will likely change yours as well. Learn more about youth mentoring through Kids ‘n Kinship today! \nQUESTIONS? Please email us at volunteer@kidsnkinship.org. Thank you!
URL:https://www.kidsnkinship.org/event/info-session-at-burnhaven-library/
LOCATION:Burnhaven Library\, 1101 W County Road 42\, Burnsville\, 55306
CATEGORIES:Info Sessions
ATTACH;FMTTYPE=image/jpeg:https://www.kidsnkinship.org/wp-content/uploads/2025/03/IMG_6406-1-4-scaled.jpg
END:VEVENT
BEGIN:VEVENT
DTSTART;TZID=America/Chicago:20251012T140000
DTEND;TZID=America/Chicago:20251012T170000
DTSTAMP:20260425T094842
CREATED:20240822T153310Z
LAST-MODIFIED:20250928T215344Z
UID:5205-1760277600-1760288400@www.kidsnkinship.org
SUMMARY:Super Bingo Fall Fundraiser
DESCRIPTION:Be a hero for local youth!  \nSuper Bingo is Kids ‘n Kinship’s Fall Fundraiser at Bogart’s . Our fundraising goal is to raise $30\,000 from sponsorships and ticket sales. We will have approximately 90 minutes of Bingo with great prizes from local businesses. Hear from one of our mentees\, Ali\, who will share a little bit about her experience as a mentee. We’re thrilled to have Grant Jones as our emcee alongside our Executive Director Alicia D. Crudup. All proceeds from the fundraiser go directly toward recruiting\, training and matching trained volunteers with one of the 40+ youth on our waitlist. \nWe will have an Online Auction running from October 2-98 preceding the event where you can bid on amazing donated items. \n\nPurchase tickets here. \n 
URL:https://www.kidsnkinship.org/event/fall-fundraiser-2025/
LOCATION:Bogarts
CATEGORIES:Featured Event,Info Sessions,Special Events
ATTACH;FMTTYPE=image/png:https://www.kidsnkinship.org/wp-content/uploads/2024/08/Copy-of-Kids-n-Kinship-Super-Bingo-Fall-Fundraiser.png
END:VEVENT
BEGIN:VEVENT
DTSTART;TZID=America/Chicago:20251113T180000
DTEND;TZID=America/Chicago:20251113T190000
DTSTAMP:20260425T094842
CREATED:20251020T221505Z
LAST-MODIFIED:20251106T160103Z
UID:5680-1763056800-1763060400@www.kidsnkinship.org
SUMMARY:Q4 Virtual Chat Session
DESCRIPTION:Our Volunteer Chat Sessions are for all volunteers whether you’re a mentor\, pen pal or committee member. Join us to learn how to unlock the power of youth voice in mentoring! Discover how honoring youth voice and building youth power can transform mentoring relationships. \nThursday\, November 13\, 6-7pm
URL:https://www.kidsnkinship.org/event/q4-chat-session/
LOCATION:Online
CATEGORIES:Featured Event,Info Sessions,Special Events
ATTACH;FMTTYPE=image/png:https://www.kidsnkinship.org/wp-content/uploads/2025/10/Q4-CHAT-GROUP.png
END:VEVENT
BEGIN:VEVENT
DTSTART;TZID=America/Chicago:20251204T180000
DTEND;TZID=America/Chicago:20251204T190000
DTSTAMP:20260425T094842
CREATED:20230523T185418Z
LAST-MODIFIED:20251105T202833Z
UID:4112-1764871200-1764874800@www.kidsnkinship.org
SUMMARY:12/4 Info Session at Robert Trail Library
DESCRIPTION:Anyone interested in learning more about our community and school-based mentoring programs\, as well as becoming a volunteer mentor\, is invited to attend an Information Session. \nThursday\, December 4 from 6-7pm at Robert Trail Library in Rosemount \nThe Information Session is the place to hear about the 47+ children and teens who are waiting for mentors\, the volunteer screening process\, activities and benefits provided by Kids ‘n Kinship. We have Information  Sessions 2-3 times a month during the evening and on the weekdays\, so if this date is not convenient\, we’ll plan a date and time that works for you. Individuals\, couples\, and families can become mentors. Mentoring is fun and rewarding and you can make a meaningful impact in the life of a child or teen! \nQUESTIONS? Please email us at volunteer@kidsnkinship.org. Thank you!
URL:https://www.kidsnkinship.org/event/info-session-at-robert-trail-library/
LOCATION:Robert Trail Library\, 14395 S Robert Trail\, Rosemount\, 55068
CATEGORIES:Info Sessions
ATTACH;FMTTYPE=image/jpeg:https://www.kidsnkinship.org/wp-content/uploads/2025/09/KNK-64-1-1-scaled.jpg
END:VEVENT
BEGIN:VEVENT
DTSTART;TZID=America/Chicago:20260303T150000
DTEND;TZID=America/Chicago:20260303T170000
DTSTAMP:20260425T094842
CREATED:20250213T171715Z
LAST-MODIFIED:20260209T200729Z
UID:5447-1772550000-1772557200@www.kidsnkinship.org
SUMMARY:Dakota County Volunteer Fair
DESCRIPTION:Join us at Wescott Library in Eagan on Tuesday\, March 3 from 3-5pm for DCVN’s Annual Spring Volunteer Resource Fair. \nMore than 20 different organizations in and around Dakota County will be offering many exciting and unique opportunities that cover a variety of topics including environmental resources\, event assistance\, office administration\, hospice care\, STEM activities\, community care\, working with seniors and children\, adult education and much more. The event is free and open to the public\, all ages of volunteers welcomed. Come find your next spring/summer adventure! \nQUESTIONS? Please email us at volunteer@kidsnkinship.org. Thank you!
URL:https://www.kidsnkinship.org/event/dakota-county-volunteer-fair/
LOCATION:Wescott Library\, 1340 Wescott Road\, Eagan\, 55123
CATEGORIES:Info Sessions
ATTACH;FMTTYPE=image/jpeg:https://www.kidsnkinship.org/wp-content/uploads/2019/03/Resource-Fair-2025Oct2-1.jpg
END:VEVENT
BEGIN:VEVENT
DTSTART;TZID=America/Chicago:20260415T180000
DTEND;TZID=America/Chicago:20260415T190000
DTSTAMP:20260425T094842
CREATED:20240226T185833Z
LAST-MODIFIED:20260311T200135Z
UID:4995-1776276000-1776279600@www.kidsnkinship.org
SUMMARY:4/15 Info Session at Wescott Library
DESCRIPTION:Anyone interested in learning more about becoming a mentor is invited to attend an Information Session. \nWednesday\, April 15 from 6-7pm in Wescott Conference Room at Wescott Library in Eagan \nThe Information Session is the place to hear about the children and teens who are waiting for mentors\, the volunteer screening process\, activities and benefits provided by Kids ‘n Kinship. We have Information Sessions 2-3 times a month during the evening  and on the weekends\, so if this date is not convenient\, we’ll plan a date and time that works for you. Individuals\, couples\, and families can become mentors. Mentoring is fun and rewarding and you can make a meaningful impact in the life of a child or teen! \nQUESTIONS? Please email us at volunteer@kidsnkinship.org. Thank you!
URL:https://www.kidsnkinship.org/event/info-session-april-15/
LOCATION:Wescott Library\, 1340 Wescott Road\, Eagan\, 55123
CATEGORIES:Info Sessions
ATTACH;FMTTYPE=image/jpeg:https://www.kidsnkinship.org/wp-content/uploads/2024/02/Image_20260212_141948_868.jpeg
END:VEVENT
BEGIN:VEVENT
DTSTART;TZID=America/Chicago:20260430T180000
DTEND;TZID=America/Chicago:20260430T190000
DTSTAMP:20260425T094842
CREATED:20250508T183026Z
LAST-MODIFIED:20260311T200708Z
UID:5464-1777572000-1777575600@www.kidsnkinship.org
SUMMARY:4/30 Virtual Info Session
DESCRIPTION:Anyone interested in learning more about our community and school-based mentoring programs\, as well as becoming a mentor\, is invited to attend an Information Session. \nThursday\, April 30 from 6-7pm on Zoom \nThe Information Session is the place to hear about the children and teens who are waiting for mentors\, the volunteer screening process\, as well as activities and benefits provided by Kids ‘n Kinship. We have Information Sessions 2-3 times a month during the day and evening\, so if this date is not convenient\, we’ll plan a date and time that works for you. \nIndividuals\, couples\, and families can become mentors. \nMentoring is a critical component in young people’s lives\, helping them make the decisions and connections that help them learn and grow. Kids ‘n Kinship mentors consistently provide feedback that\, while they started mentoring in order to change a young person’s life\, it often ends up changing theirs as well. Mentoring isn’t just about offering guidance\, it’s about making a real\, lasting difference. Imagine being a part of someone’s growth and helping them discover what’s possible – just by spending a few hours a month with them.  \nWhen you RSVP\, we will send you a zoom link. If you have any questions\, please email us at volunteer@kidsnkinship.org. Thank you!
URL:https://www.kidsnkinship.org/event/virtual-info-session-april-30/
LOCATION:Online
CATEGORIES:Info Sessions
ATTACH;FMTTYPE=image/jpeg:https://www.kidsnkinship.org/wp-content/uploads/2025/05/KNK-67-1-1-scaled.jpg
END:VEVENT
BEGIN:VEVENT
DTSTART;TZID=America/Chicago:20260502T100000
DTEND;TZID=America/Chicago:20260502T140000
DTSTAMP:20260425T094842
CREATED:20260128T200132Z
LAST-MODIFIED:20260316T193509Z
UID:5870-1777716000-1777730400@www.kidsnkinship.org
SUMMARY:Rick's Bike Sale
DESCRIPTION:Come shop the 18th Annual Sale of refurbished bicycles for all ages\, with proceeds benefiting Kids ‘n Kinship and DARTS. \nSaturday\, May 2\, 10:00am – 2:00pm \n*While supplies last – get there early for the best selection \n*INDOOR LOCATION* Dick’s Valley Service\, 5905 Upper 147th St W\, Apple Valley\, MN 55124 \n(Corner of Johnny Cake Ridge Rd. & 147th\, across from Abdallah Candies) \nChoose from a selection of more than 500 bikes! \nFor more info go to www.rick’sbikesale.com
URL:https://www.kidsnkinship.org/event/ricks-bike-sale/
LOCATION:Dick’s Valley Service\, 5905 Upper 147th St W\, Apple Valley\, 55124
CATEGORIES:Info Sessions
ATTACH;FMTTYPE=image/jpeg:https://www.kidsnkinship.org/wp-content/uploads/2023/05/IMG_9247-1-1.jpg
END:VEVENT
BEGIN:VEVENT
DTSTART;TZID=America/Chicago:20260512T120000
DTEND;TZID=America/Chicago:20260512T130000
DTSTAMP:20260425T094842
CREATED:20250224T214334Z
LAST-MODIFIED:20260420T193416Z
UID:5469-1778587200-1778590800@www.kidsnkinship.org
SUMMARY:5/12 Virtual Info Session
DESCRIPTION:Ready to Change a Life—Including Your Own? Anyone interested in learning more about our community and school-based youth mentoring program is invited to attend an Information Session. \nTuesday\, May 12\, 12-1pm Virtual on Zoom \nWant to make a difference in the life of a local youth? Our mentors consistently tell us how mentoring isn’t just about offering guidance—it’s about making a real\, lasting difference. Imagine being part of someone’s growth and helping them discover what’s possible. \nWe currently have 42 kids (age 5-16) currently waiting for a mentor. Our largest demand is for male mentors as more than half of our waitlist are boys. Individuals\, couples\, and families can become mentors. \nMentoring is a critical component in young people’s lives\, helping them make the decisions and connections that help them learn and grow. Kids ‘n Kinship mentors consistently provide feedback that\, while they started mentoring in order to change a young person’s life\, it often ends up changing theirs as well. Mentoring isn’t just about offering guidance\, it’s about making a real\, lasting difference. Imagine being a part of someone’s growth and helping them discover what’s possible – just by spending a few hours a month with them.  \nOnce you RSVP\, we’ll send you a Zoom link. For the link or if you have any questions\, please email us at volunteer@kidsnkinship.org. Thank you!
URL:https://www.kidsnkinship.org/event/virtual-info-session-may-12/
LOCATION:Online
CATEGORIES:Info Sessions
ATTACH;FMTTYPE=image/jpeg:https://www.kidsnkinship.org/wp-content/uploads/2025/03/176001-3.jpg
END:VEVENT
BEGIN:VEVENT
DTSTART;TZID=America/Chicago:20260528T180000
DTEND;TZID=America/Chicago:20260528T190000
DTSTAMP:20260425T094842
CREATED:20250121T205350Z
LAST-MODIFIED:20260420T193848Z
UID:5424-1779991200-1779994800@www.kidsnkinship.org
SUMMARY:5/28 Virtual Info Session
DESCRIPTION:Anyone interested in learning more about our community and school-based mentoring programs\, as well as becoming a volunteer mentor\, is invited to attend an Information Session. \nThursday\, May 28\, 6-7pm Virtual on Zoom \nThe Information Session is the place to hear about the children and teens who are waiting for mentors\, the volunteer screening process\, as well as activities and benefits provided by Kids ‘n Kinship. We have Information Sessions 2-3 times a month both in person and virtual\, during the day and evening\, so if this date is not convenient\, we’ll plan a date and time that works for you. \nIndividuals\, couples\, and families can become mentors. \nMentoring is a critical component in young people’s lives\, helping them make the decisions and connections that help them learn and grow. Kids ‘n Kinship mentors consistently provide feedback that\, while they started mentoring in order to change a young person’s life\, it often ends up changing theirs as well. Mentoring isn’t just about offering guidance\, it’s about making a real\, lasting difference. Imagine being a part of someone’s growth and helping them discover what’s possible – just by spending a few hours a month with them.  \nQUESTIONS? Please email us at volunteer@kidsnkinship.org. We’ll send you a Zoom link once you RSVP or email us. Thanks!
URL:https://www.kidsnkinship.org/event/virtual-info-session-may-28/
LOCATION:Online
CATEGORIES:Info Sessions
ATTACH;FMTTYPE=image/png:https://www.kidsnkinship.org/wp-content/uploads/2024/11/Jordan-BBQ.png
END:VEVENT
END:VCALENDAR