BEGIN:VCALENDAR
VERSION:2.0
PRODID:-//Kids &#039;n Kinship - ECPv6.15.16.1//NONSGML v1.0//EN
CALSCALE:GREGORIAN
METHOD:PUBLISH
X-ORIGINAL-URL:https://www.kidsnkinship.org
X-WR-CALDESC:Events for Kids &#039;n Kinship
REFRESH-INTERVAL;VALUE=DURATION:PT1H
X-Robots-Tag:noindex
X-PUBLISHED-TTL:PT1H
BEGIN:VTIMEZONE
TZID:America/Chicago
BEGIN:DAYLIGHT
TZOFFSETFROM:-0600
TZOFFSETTO:-0500
TZNAME:CDT
DTSTART:20230312T080000
END:DAYLIGHT
BEGIN:STANDARD
TZOFFSETFROM:-0500
TZOFFSETTO:-0600
TZNAME:CST
DTSTART:20231105T070000
END:STANDARD
BEGIN:DAYLIGHT
TZOFFSETFROM:-0600
TZOFFSETTO:-0500
TZNAME:CDT
DTSTART:20240310T080000
END:DAYLIGHT
BEGIN:STANDARD
TZOFFSETFROM:-0500
TZOFFSETTO:-0600
TZNAME:CST
DTSTART:20241103T070000
END:STANDARD
BEGIN:DAYLIGHT
TZOFFSETFROM:-0600
TZOFFSETTO:-0500
TZNAME:CDT
DTSTART:20250309T080000
END:DAYLIGHT
BEGIN:STANDARD
TZOFFSETFROM:-0500
TZOFFSETTO:-0600
TZNAME:CST
DTSTART:20251102T070000
END:STANDARD
END:VTIMEZONE
BEGIN:VEVENT
DTSTART;TZID=America/Chicago:20241121T120000
DTEND;TZID=America/Chicago:20241121T130000
DTSTAMP:20260423T163053
CREATED:20240624T192859Z
LAST-MODIFIED:20241114T220718Z
UID:5146-1732190400-1732194000@www.kidsnkinship.org
SUMMARY:11/21 Virtual Info Session
DESCRIPTION:Anyone interested in learning more about our community and school-based mentoring programs\, as well as becoming a mentor\, is invited to attend an Information Session. \nThursday\, November 21 from 12-1pm Virtual on Zoom \nThe Information Session is the place to hear about the children and teens who are waiting for mentors\, the volunteer screening process\, activities and benefits provided by Kids ‘n Kinship. We have Information Sessions 2-3 times a month during the evening and on the weekends\, so if this date is not convenient\, we’ll plan a date and time that works for you. Individuals\, couples\, and families can become mentors. Mentoring is fun and rewarding and you can make a meaningful impact in the life of a child or teen! \nPLEASE CONTACT US TO RSVP FOR THE SESSION. Let us know if you plan to attend: volunteer@kidsnkinship.org. Thank you!
URL:https://www.kidsnkinship.org/event/virtual-info-session-november-21/
LOCATION:Online
CATEGORIES:Info Sessions
ATTACH;FMTTYPE=image/png:https://www.kidsnkinship.org/wp-content/uploads/2024/11/Jordan-BBQ.png
END:VEVENT
BEGIN:VEVENT
DTSTART;VALUE=DATE:20241121
DTEND;VALUE=DATE:20241122
DTSTAMP:20260423T163053
CREATED:20241104T223447Z
LAST-MODIFIED:20241105T172934Z
UID:5315-1732147200-1732233599@www.kidsnkinship.org
SUMMARY:Give to the Max Day
DESCRIPTION:Mark your calendars—Give to the Max Day returns for a 16th year on Thursday\, November 21\, with Early Giving beginning on November 1. Visit GiveMN.org during that time to follow along with totals\, see prize winners\, and have your generosity counted as part of this year’s campaign. \nDonate to Kids ‘n Kinship and support local youth mentoring! \nhttps://www.givemn.org/organization/Kids-N-Kinship
URL:https://www.kidsnkinship.org/event/give-to-the-max-day-2024/
LOCATION:Online
CATEGORIES:Featured Event,Info Sessions
ATTACH;FMTTYPE=image/webp:https://www.kidsnkinship.org/wp-content/uploads/2024/11/Instagram-1080x1080-1.webp
END:VEVENT
BEGIN:VEVENT
DTSTART;TZID=America/Chicago:20240819T183000
DTEND;TZID=America/Chicago:20240819T200000
DTSTAMP:20260423T163053
CREATED:20240717T183550Z
LAST-MODIFIED:20240717T184058Z
UID:5183-1724092200-1724097600@www.kidsnkinship.org
SUMMARY:Volunteer Chat Session: Roundtable Discussion
DESCRIPTION:Join us for our next chat session on Monday\, August 19 at 6:30pm at Valley Park in Lakeville. \nRoundtable chats are a space for Kids ‘n Kinship volunteers to come together and support one another in their connections. Invite a friend or family member to learn more! Light snacks provided. \nRegister here:\nhttps://forms.gle/hRZUXriqoH2orP5i9
URL:https://www.kidsnkinship.org/event/volunteer-chat-roundtable-dakota-county-mentor/
LOCATION:Valley Lake Park\, 16050 Garrett Path\, Lakeville\, MN\, 55044\, United States
CATEGORIES:Info Sessions
ATTACH;FMTTYPE=image/png:https://www.kidsnkinship.org/wp-content/uploads/2024/07/August-mentor-chat-session-Facebook-Post.png
END:VEVENT
BEGIN:VEVENT
DTSTART;TZID=America/Chicago:20240718T180000
DTEND;TZID=America/Chicago:20240718T190000
DTSTAMP:20260423T163053
CREATED:20230526T141142Z
LAST-MODIFIED:20240624T193408Z
UID:4213-1721325600-1721329200@www.kidsnkinship.org
SUMMARY:7/18 Info Session at Blackhawk Park
DESCRIPTION:Anyone interested in learning more about our community and school-based mentoring programs\, as well as becoming a mentor\, is invited to attend an Information Session. \nThursday\, July 18\, 6-7pm at Blackhawk Park in Eagan \nThe Information Session is the place to hear about the children and teens who are waiting for mentors\, the volunteer screening process\, activities and benefits provided by Kids ‘n Kinship. We have Information Sessions 2-3 times a month during the evening and on the weekends\, so if this date is not convenient\, we’ll plan a date and time that works for you. Individuals\, couples\, and families can become mentors. Mentoring is fun and rewarding and you can make a meaningful impact in the life of a child or teen! \nQUESTIONS? Please email us at volunteer@kidsnkinship.org. Thank you!
URL:https://www.kidsnkinship.org/event/virtual-info-session-july-18/
LOCATION:Blackhawk Park\, 1629 Murphy Pkwy\, Eagan\, MN\, 55121\, United States
CATEGORIES:Info Sessions
ATTACH;FMTTYPE=image/jpeg:https://www.kidsnkinship.org/wp-content/uploads/2023/05/IMG_8036-3-1-scaled.jpg
END:VEVENT
BEGIN:VEVENT
DTSTART;TZID=America/Chicago:20240522T180000
DTEND;TZID=America/Chicago:20240522T190000
DTSTAMP:20260423T163053
CREATED:20230526T142012Z
LAST-MODIFIED:20240509T154323Z
UID:4219-1716400800-1716404400@www.kidsnkinship.org
SUMMARY:5/22 Info Session at Galaxie Library
DESCRIPTION:Anyone interested in learning more about our community and school-based mentoring programs\, as well as becoming a mentor\, is invited to attend an Information Session. \nWednesday\, May 22 from 6-7pm at Galaxie Library in Apple Valley \nThe Information Session is the place to hear about the children and teens who are waiting for mentors\, the volunteer screening process\, activities and benefits provided by Kids ‘n Kinship. We have Information Sessions 2-3 times a month during the evening and on the weekends\, so if this date is not convenient\, we’ll plan a date and time that works for you. Individuals\, couples\, and families can become mentors. Mentoring is fun and rewarding and you can make a meaningful impact in the life of a child or teen! \nPLEASE CONTACT US TO RSVP FOR THE SESSION. Let us know if you can attend by contacting volunteer@kidsnkinship.org. Thank you!
URL:https://www.kidsnkinship.org/event/info-session-at-galaxie-library/
LOCATION:Galaxie Library Apple Valley\, 14955 Galaxie Ave\, Apple Valley\, MN\, 55124\, United States
CATEGORIES:Info Sessions
ATTACH;FMTTYPE=image/jpeg:https://www.kidsnkinship.org/wp-content/uploads/2023/05/bridge-800x600-1.jpg
END:VEVENT
BEGIN:VEVENT
DTSTART;TZID=America/Chicago:20240228T180000
DTEND;TZID=America/Chicago:20240228T190000
DTSTAMP:20260423T163053
CREATED:20231031T203512Z
LAST-MODIFIED:20240122T184840Z
UID:4670-1709143200-1709146800@www.kidsnkinship.org
SUMMARY:2/28 Info Session at Wescott Library
DESCRIPTION:Anyone interested in learning more about our school-based mentoring programs\, as well as becoming a mentor\, is invited to attend an Information Session. \nWednesday\, February 28 from 6-7pm in Wescott Conference Room at Wescott Library in Eagan \nThe Information Session is the place to hear about the children and teens who are waiting for mentors\, the volunteer screening process\, activities and benefits provided by Kids ‘n Kinship. We have Information  Sessions 2-3 times a month during the evening  and on the weekends\, so if this date is not convenient\, we’ll plan a date and time that works for you. Individuals\, couples\, and families can become mentors. Mentoring is fun and rewarding and you can make a meaningful impact in the life of a child or teen! \nQUESTIONS? Please email us at volunteer@kidsnkinship.org. Thank you!
URL:https://www.kidsnkinship.org/event/info-session-december-6/
LOCATION:Wescott Library\, 1340 Wescott Road\, Eagan\, 55123
CATEGORIES:Info Sessions
ATTACH;FMTTYPE=image/jpeg:https://www.kidsnkinship.org/wp-content/uploads/2023/05/8DE15D52-73E6-4632-8FB9-D54E36CF6405remote34d860d13228e64cfcec44e90f37787347cdff74-2-original-1.jpg
END:VEVENT
BEGIN:VEVENT
DTSTART;TZID=America/Chicago:20240215T070000
DTEND;TZID=America/Chicago:20240215T080000
DTSTAMP:20260423T163053
CREATED:20230805T141113Z
LAST-MODIFIED:20240206T215829Z
UID:4546-1707980400-1707984000@www.kidsnkinship.org
SUMMARY:Recruitment Coordinator\, Silas Means\, Jr.\, Speaking at Eagan Kick-Start Rotary
DESCRIPTION:Our Recruitment Coordinator\, Silas Means\, Jr. will be speaking at the Eagan Kick-Start Rotary Club on Thursday\, February 15 at 7am.
URL:https://www.kidsnkinship.org/event/eagan-kick-start-rotary/
LOCATION:Eagan City Hall\, 3830 Pilot Knob Road\, Eagan\, MN\, 55122\, United States
CATEGORIES:Info Sessions
ATTACH;FMTTYPE=image/jpeg:https://www.kidsnkinship.org/wp-content/uploads/2023/05/IMG_7972-1.jpg
END:VEVENT
BEGIN:VEVENT
DTSTART;TZID=America/Chicago:20240128T113000
DTEND;TZID=America/Chicago:20240128T130000
DTSTAMP:20260423T163053
CREATED:20231221T202545Z
LAST-MODIFIED:20231221T203854Z
UID:4903-1706441400-1706446800@www.kidsnkinship.org
SUMMARY:Walk Like a Mentee
DESCRIPTION: “Walk Like a Mentee\,” will take place on Sunday\, January 28 from 11:30am-1pm at the Eagan Community Center gym. This information session goes beyond the traditional format\, offering families and prospective mentors the chance to get real interaction and conversations with some of mentor and mentee matches. \nRSVP to Silas at volunteer@kidsnkinship.org to reserve your spot.
URL:https://www.kidsnkinship.org/event/walk-like-a-mentee/
LOCATION:Eagan Community Center\, 1501 Central Pkwy\, Eagan\, MN\, 55121\, United States
CATEGORIES:Featured Event,Info Sessions,Special Events
ATTACH;FMTTYPE=image/png:https://www.kidsnkinship.org/wp-content/uploads/2023/12/Walk-Like-a-Mentee-2.png
END:VEVENT
BEGIN:VEVENT
DTSTART;TZID=America/Chicago:20240125T120000
DTEND;TZID=America/Chicago:20240125T130000
DTSTAMP:20260423T163053
CREATED:20231221T203413Z
LAST-MODIFIED:20231221T203719Z
UID:4908-1706184000-1706187600@www.kidsnkinship.org
SUMMARY:1/25 Jeopardy Info Session
DESCRIPTION:Join us as we host a Jeopardy-themed information session tailored for prospective mentors who are curious about our program via Zoom from 12-1pm on Thursday\, January 25. \nTest your knowledge\, engage in friendly competition\, and learn about Kids ‘n Kinship’s impactful initiatives in a fun and interactive way. \nQUESTIONS or to RSVP? Please email us at volunteer@kidsnkinship.org. Thank you!
URL:https://www.kidsnkinship.org/event/jeopardy-info-session-january-25/
LOCATION:Online
CATEGORIES:Info Sessions
ATTACH;FMTTYPE=image/png:https://www.kidsnkinship.org/wp-content/uploads/2023/12/Jeopardy-Info-Session-.png
END:VEVENT
END:VCALENDAR