BEGIN:VCALENDAR
VERSION:2.0
PRODID:-//Kids &#039;n Kinship - ECPv6.15.16.1//NONSGML v1.0//EN
CALSCALE:GREGORIAN
METHOD:PUBLISH
X-WR-CALNAME:Kids &#039;n Kinship
X-ORIGINAL-URL:https://www.kidsnkinship.org
X-WR-CALDESC:Events for Kids &#039;n Kinship
REFRESH-INTERVAL;VALUE=DURATION:PT1H
X-Robots-Tag:noindex
X-PUBLISHED-TTL:PT1H
BEGIN:VTIMEZONE
TZID:America/Chicago
BEGIN:DAYLIGHT
TZOFFSETFROM:-0600
TZOFFSETTO:-0500
TZNAME:CDT
DTSTART:20250309T080000
END:DAYLIGHT
BEGIN:STANDARD
TZOFFSETFROM:-0500
TZOFFSETTO:-0600
TZNAME:CST
DTSTART:20251102T070000
END:STANDARD
BEGIN:DAYLIGHT
TZOFFSETFROM:-0600
TZOFFSETTO:-0500
TZNAME:CDT
DTSTART:20260308T080000
END:DAYLIGHT
BEGIN:STANDARD
TZOFFSETFROM:-0500
TZOFFSETTO:-0600
TZNAME:CST
DTSTART:20261101T070000
END:STANDARD
BEGIN:DAYLIGHT
TZOFFSETFROM:-0600
TZOFFSETTO:-0500
TZNAME:CDT
DTSTART:20270314T080000
END:DAYLIGHT
BEGIN:STANDARD
TZOFFSETFROM:-0500
TZOFFSETTO:-0600
TZNAME:CST
DTSTART:20271107T070000
END:STANDARD
END:VTIMEZONE
BEGIN:VEVENT
DTSTART;TZID=America/Chicago:20260502T100000
DTEND;TZID=America/Chicago:20260502T140000
DTSTAMP:20260423T163029
CREATED:20260128T200132Z
LAST-MODIFIED:20260316T193509Z
UID:5870-1777716000-1777730400@www.kidsnkinship.org
SUMMARY:Rick's Bike Sale
DESCRIPTION:Come shop the 18th Annual Sale of refurbished bicycles for all ages\, with proceeds benefiting Kids ‘n Kinship and DARTS. \nSaturday\, May 2\, 10:00am – 2:00pm \n*While supplies last – get there early for the best selection \n*INDOOR LOCATION* Dick’s Valley Service\, 5905 Upper 147th St W\, Apple Valley\, MN 55124 \n(Corner of Johnny Cake Ridge Rd. & 147th\, across from Abdallah Candies) \nChoose from a selection of more than 500 bikes! \nFor more info go to www.rick’sbikesale.com
URL:https://www.kidsnkinship.org/event/ricks-bike-sale/
LOCATION:Dick’s Valley Service\, 5905 Upper 147th St W\, Apple Valley\, 55124
CATEGORIES:Info Sessions
ATTACH;FMTTYPE=image/jpeg:https://www.kidsnkinship.org/wp-content/uploads/2023/05/IMG_9247-1-1.jpg
END:VEVENT
END:VCALENDAR