BEGIN:VCALENDAR
VERSION:2.0
PRODID:-//Kids &#039;n Kinship - ECPv6.15.16.1//NONSGML v1.0//EN
CALSCALE:GREGORIAN
METHOD:PUBLISH
X-WR-CALNAME:Kids &#039;n Kinship
X-ORIGINAL-URL:https://www.kidsnkinship.org
X-WR-CALDESC:Events for Kids &#039;n Kinship
REFRESH-INTERVAL;VALUE=DURATION:PT1H
X-Robots-Tag:noindex
X-PUBLISHED-TTL:PT1H
BEGIN:VTIMEZONE
TZID:America/Chicago
BEGIN:DAYLIGHT
TZOFFSETFROM:-0600
TZOFFSETTO:-0500
TZNAME:CDT
DTSTART:20230312T080000
END:DAYLIGHT
BEGIN:STANDARD
TZOFFSETFROM:-0500
TZOFFSETTO:-0600
TZNAME:CST
DTSTART:20231105T070000
END:STANDARD
BEGIN:DAYLIGHT
TZOFFSETFROM:-0600
TZOFFSETTO:-0500
TZNAME:CDT
DTSTART:20240310T080000
END:DAYLIGHT
BEGIN:STANDARD
TZOFFSETFROM:-0500
TZOFFSETTO:-0600
TZNAME:CST
DTSTART:20241103T070000
END:STANDARD
BEGIN:DAYLIGHT
TZOFFSETFROM:-0600
TZOFFSETTO:-0500
TZNAME:CDT
DTSTART:20250309T080000
END:DAYLIGHT
BEGIN:STANDARD
TZOFFSETFROM:-0500
TZOFFSETTO:-0600
TZNAME:CST
DTSTART:20251102T070000
END:STANDARD
END:VTIMEZONE
BEGIN:VEVENT
DTSTART;TZID=America/Chicago:20240125T120000
DTEND;TZID=America/Chicago:20240125T130000
DTSTAMP:20260425T053034
CREATED:20231221T203413Z
LAST-MODIFIED:20231221T203719Z
UID:4908-1706184000-1706187600@www.kidsnkinship.org
SUMMARY:1/25 Jeopardy Info Session
DESCRIPTION:Join us as we host a Jeopardy-themed information session tailored for prospective mentors who are curious about our program via Zoom from 12-1pm on Thursday\, January 25. \nTest your knowledge\, engage in friendly competition\, and learn about Kids ‘n Kinship’s impactful initiatives in a fun and interactive way. \nQUESTIONS or to RSVP? Please email us at volunteer@kidsnkinship.org. Thank you!
URL:https://www.kidsnkinship.org/event/jeopardy-info-session-january-25/
LOCATION:Online
CATEGORIES:Info Sessions
ATTACH;FMTTYPE=image/png:https://www.kidsnkinship.org/wp-content/uploads/2023/12/Jeopardy-Info-Session-.png
END:VEVENT
END:VCALENDAR