BEGIN:VCALENDAR
VERSION:2.0
PRODID:-//Kids &#039;n Kinship - ECPv6.15.16.1//NONSGML v1.0//EN
CALSCALE:GREGORIAN
METHOD:PUBLISH
X-ORIGINAL-URL:https://www.kidsnkinship.org
X-WR-CALDESC:Events for Kids &#039;n Kinship
REFRESH-INTERVAL;VALUE=DURATION:PT1H
X-Robots-Tag:noindex
X-PUBLISHED-TTL:PT1H
BEGIN:VTIMEZONE
TZID:America/Chicago
BEGIN:DAYLIGHT
TZOFFSETFROM:-0600
TZOFFSETTO:-0500
TZNAME:CDT
DTSTART:20240310T080000
END:DAYLIGHT
BEGIN:STANDARD
TZOFFSETFROM:-0500
TZOFFSETTO:-0600
TZNAME:CST
DTSTART:20241103T070000
END:STANDARD
BEGIN:DAYLIGHT
TZOFFSETFROM:-0600
TZOFFSETTO:-0500
TZNAME:CDT
DTSTART:20250309T080000
END:DAYLIGHT
BEGIN:STANDARD
TZOFFSETFROM:-0500
TZOFFSETTO:-0600
TZNAME:CST
DTSTART:20251102T070000
END:STANDARD
BEGIN:DAYLIGHT
TZOFFSETFROM:-0600
TZOFFSETTO:-0500
TZNAME:CDT
DTSTART:20260308T080000
END:DAYLIGHT
BEGIN:STANDARD
TZOFFSETFROM:-0500
TZOFFSETTO:-0600
TZNAME:CST
DTSTART:20261101T070000
END:STANDARD
END:VTIMEZONE
BEGIN:VEVENT
DTSTART;TZID=America/Chicago:20250319T180000
DTEND;TZID=America/Chicago:20250319T190000
DTSTAMP:20260424T081928
CREATED:20250224T194846Z
LAST-MODIFIED:20250224T212459Z
UID:5461-1742407200-1742410800@www.kidsnkinship.org
SUMMARY:3/19 Info Session at Heritage Library
DESCRIPTION:Anyone interested in learning more about our mentoring programs\, as well as becoming a mentor\, is invited to attend an Information Session. \nWednesday\, March 19 from 6-7pm at the Heritage Library in Lakeville \nThe Information Session is the place to hear about the 45+ children and teens in our program who are waiting for mentors\, the volunteer screening process\, activities and benefits provided by Kids ‘n Kinship. We have Information Sessions a couple times a month during the evening and on during the day\, so if this date is not convenient\, we’re happy to meet with you one-on-one at a time that works for you. Individuals\, couples\, and families can become mentors. Mentoring is fun and rewarding and you can make a meaningful impact in the life of a child or teen! \nQUESTIONS? Please email us at volunteer@kidsnkinship.org. Thank you!
URL:https://www.kidsnkinship.org/event/info-session-at-heritage-library-copy/
LOCATION:Heritage Library
CATEGORIES:Info Sessions
ATTACH;FMTTYPE=image/png:https://www.kidsnkinship.org/wp-content/uploads/2023/06/Screenshot-2024-01-03-114835.png
END:VEVENT
END:VCALENDAR