BEGIN:VCALENDAR
VERSION:2.0
PRODID:-//Kids &#039;n Kinship - ECPv6.15.16.1//NONSGML v1.0//EN
CALSCALE:GREGORIAN
METHOD:PUBLISH
X-WR-CALNAME:Kids &#039;n Kinship
X-ORIGINAL-URL:https://www.kidsnkinship.org
X-WR-CALDESC:Events for Kids &#039;n Kinship
REFRESH-INTERVAL;VALUE=DURATION:PT1H
X-Robots-Tag:noindex
X-PUBLISHED-TTL:PT1H
BEGIN:VTIMEZONE
TZID:America/Chicago
BEGIN:DAYLIGHT
TZOFFSETFROM:-0600
TZOFFSETTO:-0500
TZNAME:CDT
DTSTART:20240310T080000
END:DAYLIGHT
BEGIN:STANDARD
TZOFFSETFROM:-0500
TZOFFSETTO:-0600
TZNAME:CST
DTSTART:20241103T070000
END:STANDARD
BEGIN:DAYLIGHT
TZOFFSETFROM:-0600
TZOFFSETTO:-0500
TZNAME:CDT
DTSTART:20250309T080000
END:DAYLIGHT
BEGIN:STANDARD
TZOFFSETFROM:-0500
TZOFFSETTO:-0600
TZNAME:CST
DTSTART:20251102T070000
END:STANDARD
BEGIN:DAYLIGHT
TZOFFSETFROM:-0600
TZOFFSETTO:-0500
TZNAME:CDT
DTSTART:20260308T080000
END:DAYLIGHT
BEGIN:STANDARD
TZOFFSETFROM:-0500
TZOFFSETTO:-0600
TZNAME:CST
DTSTART:20261101T070000
END:STANDARD
END:VTIMEZONE
BEGIN:VEVENT
DTSTART;TZID=America/Chicago:20250122T180000
DTEND;TZID=America/Chicago:20250122T190000
DTSTAMP:20260424T105408
CREATED:20230524T194830Z
LAST-MODIFIED:20241114T215237Z
UID:4160-1737568800-1737572400@www.kidsnkinship.org
SUMMARY:1/22 Virtual Info Session
DESCRIPTION:Anyone interested in learning more about our community and school-based mentoring programs\, as well as becoming a mentor\, is invited to attend an Information Session. \nWednesday\, January 22\, 6-7pm Virtual on Zoom \nThe Information Session is the place to hear about the children and teens who are waiting for mentors\, the volunteer screening process\, as well as activities and benefits provided by Kids ‘n Kinship. We have Information Sessions 2-3 times a month during the day and evening\, so if this date is not convenient\, we’ll plan a date and time that works for you. \nIndividuals\, couples\, and families can become mentors. \nMentoring is a critical component in young people’s lives\, helping them make the decisions and connections that help them learn and grow. Kids ‘n Kinship mentors consistently provide feedback that\, while they started mentoring in order to change a young person’s life\, it often ends up changing theirs as well. Mentoring isn’t just about offering guidance\, it’s about making a real\, lasting difference. Imagine being a part of someone’s growth and helping them discover what’s possible – just by spending a few hours a month with them.  \nQUESTIONS? Please email us at volunteer@kidsnkinship.org. Thank you!
URL:https://www.kidsnkinship.org/event/virtual-info-session-january-22/
LOCATION:Online
CATEGORIES:Info Sessions
ATTACH;FMTTYPE=image/jpeg:https://www.kidsnkinship.org/wp-content/uploads/2023/05/B84FEB7D-E5C2-42A3-B05F-A702A05DD694.jpg
END:VEVENT
BEGIN:VEVENT
DTSTART;TZID=America/Chicago:20250129T180000
DTEND;TZID=America/Chicago:20250129T200000
DTSTAMP:20260424T105408
CREATED:20241119T184737Z
LAST-MODIFIED:20241205T202702Z
UID:5346-1738173600-1738180800@www.kidsnkinship.org
SUMMARY:Guys Night
DESCRIPTION:Bring a friend and join us for Guys’ Night Out at Omni Winery & Taproom in Rosemount! Enjoy a complimentary beer or glass of wine and explore the art of cigar rolling with International Cigar\, all while learning about the impact you can make as a mentor. \nWith 42 youth waiting for a positive male role model\, your support whether by mentoring or simply showing up helps change lives. Let’s connect\, share stories\, and raise a glass to building brighter futures.
URL:https://www.kidsnkinship.org/event/guys-night/
LOCATION:Omni Winery & Taproom\, 15701 Biscayne Ave. N\, Rosemount\, MN\, 55068\, United States
CATEGORIES:Featured Event,Info Sessions
ATTACH;FMTTYPE=image/png:https://www.kidsnkinship.org/wp-content/uploads/2024/11/guys-night-2.png
END:VEVENT
END:VCALENDAR