BEGIN:VCALENDAR
VERSION:2.0
PRODID:-//Kids &#039;n Kinship - ECPv6.15.16.1//NONSGML v1.0//EN
CALSCALE:GREGORIAN
METHOD:PUBLISH
X-WR-CALNAME:Kids &#039;n Kinship
X-ORIGINAL-URL:https://www.kidsnkinship.org
X-WR-CALDESC:Events for Kids &#039;n Kinship
REFRESH-INTERVAL;VALUE=DURATION:PT1H
X-Robots-Tag:noindex
X-PUBLISHED-TTL:PT1H
BEGIN:VTIMEZONE
TZID:America/Chicago
BEGIN:DAYLIGHT
TZOFFSETFROM:-0600
TZOFFSETTO:-0500
TZNAME:CDT
DTSTART:20240310T080000
END:DAYLIGHT
BEGIN:STANDARD
TZOFFSETFROM:-0500
TZOFFSETTO:-0600
TZNAME:CST
DTSTART:20241103T070000
END:STANDARD
BEGIN:DAYLIGHT
TZOFFSETFROM:-0600
TZOFFSETTO:-0500
TZNAME:CDT
DTSTART:20250309T080000
END:DAYLIGHT
BEGIN:STANDARD
TZOFFSETFROM:-0500
TZOFFSETTO:-0600
TZNAME:CST
DTSTART:20251102T070000
END:STANDARD
BEGIN:DAYLIGHT
TZOFFSETFROM:-0600
TZOFFSETTO:-0500
TZNAME:CDT
DTSTART:20260308T080000
END:DAYLIGHT
BEGIN:STANDARD
TZOFFSETFROM:-0500
TZOFFSETTO:-0600
TZNAME:CST
DTSTART:20261101T070000
END:STANDARD
END:VTIMEZONE
BEGIN:VEVENT
DTSTART;TZID=America/Chicago:20251113T180000
DTEND;TZID=America/Chicago:20251113T190000
DTSTAMP:20260423T233102
CREATED:20251020T221505Z
LAST-MODIFIED:20251106T160103Z
UID:5680-1763056800-1763060400@www.kidsnkinship.org
SUMMARY:Q4 Virtual Chat Session
DESCRIPTION:Our Volunteer Chat Sessions are for all volunteers whether you’re a mentor\, pen pal or committee member. Join us to learn how to unlock the power of youth voice in mentoring! Discover how honoring youth voice and building youth power can transform mentoring relationships. \nThursday\, November 13\, 6-7pm
URL:https://www.kidsnkinship.org/event/q4-chat-session/
LOCATION:Online
CATEGORIES:Featured Event,Info Sessions,Special Events
ATTACH;FMTTYPE=image/png:https://www.kidsnkinship.org/wp-content/uploads/2025/10/Q4-CHAT-GROUP.png
END:VEVENT
END:VCALENDAR